BEGIN:VCALENDAR
VERSION:2.0
PRODID:icalendar-ruby
CALSCALE:GREGORIAN
METHOD:PUBLISH
BEGIN:VEVENT
DTSTAMP:20260422T223252Z
UID:15-481410@nmccc.org
DTSTART:20260906T143000Z
DTEND:20260906T153500Z
CLASS:PUBLIC
CREATED:20260422T164653
DESCRIPTION: Sunday Mornings at Walnut Street Church! \nGet ready for an ex
 citing Sunday filled with worship\, community\, and a powerful message tha
 t will inspire you to live with purpose!  Whether you’re joining us at 9
  AM or 10:30 AM\, we’ve got a seat saved just for you!\nExpect uplifting
  music\, meaningful connections\, and a chance to grow in your faith. Let
 ’s come together as a family to celebrate all that God is doing in our l
 ives. \nBring a friend\, bring your family\, and let’s make this Sunday 
 one to remember! 
LAST-MODIFIED:20260422T164653
LOCATION:Walnut Street Church
SUMMARY:Sunday Morning Worship
URL;VALUE=URI:https://www.nmccc.org/events/sunday-morning-worship--14/2026-
 09-06
ATTACH;FILENAME=smile-its-sunday.jpeg;FMTTYPE=image/jpeg:https://dq5pwpg1q8
 ru0.cloudfront.net/2024/12/04/11/53/47/64e47b15-f243-490e-ae73-55d005e472f
 d/smile-its-sunday.jpeg
END:VEVENT
END:VCALENDAR
