BEGIN:VCALENDAR
VERSION:2.0
PRODID:icalendar-ruby
CALSCALE:GREGORIAN
METHOD:PUBLISH
BEGIN:VEVENT
DTSTAMP:20260421T005232Z
UID:29-477582@nmccc.org
DTSTART:20260923T223000Z
DTEND:20260923T233000Z
CLASS:PUBLIC
CREATED:20260420T204236
DESCRIPTION:Join us for Essential Night--an evening of deeper discussion an
 d focosed prayer. We're diving into Sunday's message and spending time tog
 ether in prayer. Come ready to connect\, grow\, and be encouraged. 
LAST-MODIFIED:20260420T204236
LOCATION:
SUMMARY:Essential Night
URL;VALUE=URI:https://www.nmccc.org/events/essential-night/2026-09-23
ATTACH;FILENAME=essential-night.png;FMTTYPE=image/png:https://dq5pwpg1q8ru0
 .cloudfront.net/2024/12/04/11/28/17/fea8cfc9-f8a7-4383-a3d5-bd55551f65a0/e
 ssential-night.png
END:VEVENT
END:VCALENDAR
